BEGIN:VCALENDAR
VERSION:2.0
PRODID:-//Annette Stock - ECPv4.2//NONSGML v1.0//EN
CALSCALE:GREGORIAN
METHOD:PUBLISH
X-WR-CALNAME:Annette Stock
X-ORIGINAL-URL:https://speechtherapist.co.nz
X-WR-CALDESC:Events for Annette Stock
BEGIN:VEVENT
DTSTART;TZID=Pacific/Auckland:20161015T080000
DTEND;TZID=Pacific/Auckland:20161015T163000
DTSTAMP:20181224T040000
CREATED:20160908T005239
LAST-MODIFIED:20160908T044825
UID:508-1476518400-1476549000@speechtherapist.co.nz
SUMMARY:Uniquely Kiwi Cambridge 15th October
DESCRIPTION:By popular demand Uniquely Kiwi-Creative Professional Development\, is again offering a day of inspirational speakers\, including Jill Eggeleton "Lighting the Literacy Fire for Beginners". There is also a great line up of tradies with an amazing collection of products for early childhood and junior primary facilities.\n\nCheck out what others have to say about this day in the brochure attached.\n\nNB Early Bird registration closes 7th October 2106\n\nDownload the Conference Handbook >>
URL:https://speechtherapist.co.nz/event/uniquely-kiwi-cambridge-15th-october/
LOCATION:25 Swayne Rd\, Cambridge \, 3434\, New Zealand
CATEGORIES:Conference
END:VEVENT
END:VCALENDAR