BEGIN:VCALENDAR
VERSION:2.0
PRODID:-//Annette Stock - ECPv4.2//NONSGML v1.0//EN
CALSCALE:GREGORIAN
METHOD:PUBLISH
X-WR-CALNAME:Annette Stock
X-ORIGINAL-URL:https://speechtherapist.co.nz
X-WR-CALDESC:Events for Annette Stock
BEGIN:VEVENT
DTSTART;TZID=Pacific/Auckland:20160610T090000
DTEND;TZID=Pacific/Auckland:20160611T170000
DTSTAMP:20181224T040612
CREATED:20160610T001455
LAST-MODIFIED:20160610T012632
UID:377-1465549200-1465664400@speechtherapist.co.nz
SUMMARY:TTT (Teachers Talking to Tamariki) and PTT (Parents Talking to Tamariki)  - REAP Whakatane 10/11th June 2016
DESCRIPTION:This is a series of 3 workshops for:\n\nTeachers (both pre and junior school age) 9-3pm\n\nand 4 workshops for parents.\n\nParents -PTT Parents Talking with Tamariki 9-12pm\n\nREAP Whakatane 2016\n\n\nDownload Information Here >>
URL:https://speechtherapist.co.nz/event/ttt-teachers-talking-to-tamariki-and-ptt-parents-talking-to-tamariki-reap-whakatane-1011th-june-2016/
CATEGORIES:Seminar
ORGANIZER;CN="Annette%20Stock":MAILTO:annetterstock@gmail.com
END:VEVENT
END:VCALENDAR